Workbook

Sheet PRESENTACIÓN
B11: ANID
B12: APOYO A CENTROS DE EXCELENCIA EN INVESTIGACIÓN EN ÁREAS PRIORITARIAS FONDAP 2022
B18: FORMULARIO PARA LA PRESENTACIÓN DE LA PROPUESTA DE PRESUPUESTO ANUAL
B19: ETAPA 2022
C21: PROYECTO Nº
B37: Nombre | F37: Nombre
B38: Representante Institucional (Institución Patrocinante) | F38: Director(a) del Centro
B42: Fecha de Presentación:

Sheet 1. PPTO TOTAL CENTRO
B1: PROPUESTA DE PRESUPUESTO
B2: =+PRESENTACIÓN!B19 -> ETAPA 2022
B3: 1. PRESUPUESTO TOTAL (PRESUPUESTO ANID + APORTES INSTITUCIONALES)
B5: Nº PROYECTO | C5: =+'2. PPTO ANID'!C3 -> 0
B6: NOMBRE CENTRO | C6: =+'2. PPTO ANID'!C4 -> 0
B7: DIRECTOR(A) | C7: =+'2. PPTO ANID'!C5 -> 0
B8: SUB-DIRECTOR(A) | C8: =+'2. PPTO ANID'!C6 -> 0
B9: INSTITUCION PATROCINANTE | C9: =+'2. PPTO ANID'!C7 -> 0
B10: INSTITUCION ASOCIADA 1 | C10: =+'2. PPTO ANID'!C8 -> 0
B11: INSTITUCION ASOCIADA 2 | C11: =+'2. PPTO ANID'!C9 -> 0
B12: INSTITUCION ASOCIADA 3 | C12: =+'2. PPTO ANID'!C10 -> 0
B13: INSTITUCION ASOCIADA 4 | C13: =+'2. PPTO ANID'!C11 -> 0
B14: INSTITUCION ASOCIADA 5 | C14: =+'2. PPTO ANID'!C12 -> 0
B15: INSTITUCION ASOCIADA 6 | C15: =+'2. PPTO ANID'!C13 -> 0
B16: INSTITUCION ASOCIADA 7 | C16: =+'2. PPTO ANID'!C14 -> 0
B17: INSTITUCION ASOCIADA 8 | C17: =+'2. PPTO ANID'!C15 -> 0
B19: Montos en Miles de $
B20: ITEM PRESUPUESTARIO | C20: APORTE ANID | D20: APORTE INST. PATROCINANTE Y ASOCIADA(S) | E20: TOTAL
B22: Gastos en Personal | C22: =SUM(C23:C29) -> 0 | D22: =SUM(D23:D29) -> 0 | E22: =SUM(E23:E29) -> 0
B23: Investigadores | C23: ='2. PPTO ANID'!C21 -> 0 | D23: ='3 .TOTAL APORTES'!E21 -> 0 | E23: =SUM(C23:D23) -> 0
B24: ='2.1. Personal'!B30 -> Investigadores Postdoctorales | C24: ='2. PPTO ANID'!C22 -> 0 | D24: ='3 .TOTAL APORTES'!E22 -> 0 | E24: =SUM(C24:D24) -> 0
B25: =+'2.1. Personal'!B31:D31 -> Estudiantes de Doctorado | C25: ='2. PPTO ANID'!C23 -> 0 | D25: ='3 .TOTAL APORTES'!E23 -> 0 | E25: =SUM(C25:D25) -> 0
B26: =+'2.1. Personal'!B32:D32 -> Estudiantes de Magister | C26: ='2. PPTO ANID'!C24 -> 0 | D26: ='3 .TOTAL APORTES'!E24 -> 0 | E26: =SUM(C26:D26) -> 0
B27: =+'2.1. Personal'!B33:D33 -> Tesistas de Pregrado | C27: ='2. PPTO ANID'!C25 -> 0 | D27: ='3 .TOTAL APORTES'!E25 -> 0 | E27: =SUM(C27:D27) -> 0
B28: =+'2.1. Personal'!B34:D34 -> Personal de Apoyo | C28: ='2. PPTO ANID'!C26 -> 0 | D28: ='3 .TOTAL APORTES'!E26 -> 0 | E28: =SUM(C28:D28) -> 0
B29: Personal Administrativo | C29: ='2. PPTO ANID'!C27 -> 0 | D29: ='3 .TOTAL APORTES'!E27 -> 0 | E29: =SUM(C29:D29) -> 0
B30: Gastos de Operación | C30: =SUM(C31:C32) -> 0 | D30: =SUM(D31:D32) -> 0 | E30: =SUM(E31:E32) -> 0
B31: Gastos Operacionales | C31: ='2. PPTO ANID'!C29 -> 0 | D31: ='3 .TOTAL APORTES'!E29 -> 0 | E31: =SUM(E32:E32) -> 0
B32: Gastos de Pasajes y Estadía | C32: ='2. PPTO ANID'!C30 -> 0 | D32: ='3 .TOTAL APORTES'!E30 -> 0 | E32: =SUM(C32:D32) -> 0
B33: Equipamiento | C33: ='2.4 Equipamiento'!D20 -> 0 | D33: ='3 .TOTAL APORTES'!E31 -> 0 | E33: =SUM(C33:D33) -> 0
B34: Gastos de Administración Indirectos (Overhead) | C34: =+'2. PPTO ANID'!C32 -> 0 | E34: =SUM(C34:D34) -> 0
B35: Total M$ | C35: =+C22+C30+C34+C33 -> 0 | D35: =+D22+D30+D34+D33 -> 0 | E35: =+E22+E30+E34+E33 -> 0
B37: No llenar, las celdas se actualizan automáticamente.

Sheet 2. PPTO ANID
B1: 2. PRESUPUESTO SOLICITADO A ANID
B3: Nº PROYECTO
B4: NOMBRE CENTRO
B5: DIRECTOR(A)
B6: SUB-DIRECTOR(A)
B7: INSTITUCION PATROCINANTE
B8: INSTITUCION ASOCIADA 1
B9: INSTITUCION ASOCIADA 2
B10: INSTITUCION ASOCIADA 3
B11: INSTITUCION ASOCIADA 4
B12: INSTITUCION ASOCIADA 5
B13: INSTITUCION ASOCIADA 6
... B17: Montos en Miles de $
B18: ITEM PRESUPUESTARIO | C18: MONTO SOLICITADO (M$) | D18: %
B20: Personal | C20: =SUM(C21:C27) -> 0 | D20: =IF($C$33>0,C20/$C$33,0) -> 0
B21: =+'1. PPTO TOTAL CENTRO'!B23 -> Investigadores | C21: =+'2.1. Personal'!I24 -> 0 | D21: =IF($C$33>0,C21/$C$33,0) -> 0
B22: =+'1. PPTO TOTAL CENTRO'!B24 -> Investigadores Postdoctorales | C22: ='2.1. Personal'!I30 -> 0 | D22: =IF($C$33>0,C22/$C$33,0) -> 0
B23: =+'1. PPTO TOTAL CENTRO'!B25 -> Estudiantes de Doctorado | C23: =+'2.1. Personal'!I31 -> 0 | D23: =IF($C$33>0,C23/$C$33,0) -> 0
B24: =+'1. PPTO TOTAL CENTRO'!B26 -> Estudiantes de Magister | C24: =+'2.1. Personal'!I32 -> 0 | D24: =IF($C$33>0,C24/$C$33,0) -> 0
B25: =+'1. PPTO TOTAL CENTRO'!B27 -> Tesistas de Pregrado | C25: =+'2.1. Personal'!I33 -> 0 | D25: =IF($C$33>0,C25/$C$33,0) -> 0
B26: =+'1. PPTO TOTAL CENTRO'!B28 -> Personal de Apoyo | C26: =+'2.1. Personal'!I34 -> 0 | D26: =IF($C$33>0,C26/$C$33,0) -> 0
B27: =+'1. PPTO TOTAL CENTRO'!B29 -> Personal Administrativo | C27: =+'2.1. Personal'!I35 -> 0 | D27: =IF($C$33>0,C27/$C$33,0) -> 0
B28: =+'1. PPTO TOTAL CENTRO'!B30 -> Gastos de Operación | C28: =SUM(C29:C30) -> 0 | D28: =IF($C$33>0,C28/$C$33,0) -> 0
B29: =+'1. PPTO TOTAL CENTRO'!B31 -> Gastos Operacionales | C29: ='2.2. Gastos Operacionales'!B12 -> 0 | D29: =IF($C$33>0,C29/$C$33,0) -> 0
B30: =+'1. PPTO TOTAL CENTRO'!B32 -> Gastos de Pasajes y Estadía | C30: ='2.3. Gastos Pasajes y Estadia'!B10+'2.3. Gastos Pasajes y Estadia'!B18 -> 0 | D30: =IF($C$33>0,C30/$C$33,0) -> 0
B31: Equipamiento | C31: ='2.4 Equipamiento'!D20 -> 0 | D31: =IF($C$33>0,C31/$C$33,0) -> 0
B32: =+'1. PPTO TOTAL CENTRO'!B34 -> Gastos de Administración Indirectos (Overhead) | C32: 0 | D32: =IF($C$33>0,C32/$C$33,0) -> 0
B33: Total M$ | C33: =+C20+C28+C32+C31 -> 0
B35: % Personal Administrativo (Máx. 7% del Total Recursos ANID) | C35: =+IF(C$27>0,C27/C33,0) -> 0
B36: % Gastos de Administración (Overhead) (Máx. 5% del Total Recursos ANID) | C36: =+IF(C$33>0,C32/C33,0) -> 0
B37: % Gastos Generales del Proyecto (Máx. 7% del Total Recursos ANID) | C37: =+IF('2.2. Gastos Operacionales'!B7>0,'2.2. Gastos Operacionales'!B7/C33,0) -> 0
B38: Monto Máximo a solicitar a ANID ($1.027.000) | C38: =+IF(C33<1027000,"OK","ERROR") -> OK

Sheet 2.1. Personal
B1: 2.1. PRESUPUESTO PARA GASTOS EN PERSONAL SOLICITADO A ANID
B4: INVESTIGADORES(AS)
B5: Montos en Miles de $
B6: Apellido Paterno | C6: Apellido Materno | D6: Nombre | E6: RUT | F6: Programa asociado / Línea de Investigación | G6: Categoría | H6: TOTALES | L6: CUADRO DE AYUDA
H7: Hrs / sem. | I7: Monto M$ | K7: Monto Máximo UF | L7: % Hrs/sem | M7: Monto Max posible (UF) | N7: Monto solicitado (UF) | O7: CHECK
G8: Director(a) | K8: 1380 | L8: =H8/44 -> 0 | M8: =L8*K8 -> 0 | N8: =(I8*1000)/$N$25 -> 0 | O8: =+IF(N8<M8,"OK","ERROR") -> ERROR
G9: Sub-Director(a) | K9: 1200 | L9: =H9/44 -> 0 | M9: =L9*K9 -> 0 | N9: =(I9*1000)/$N$25 -> 0 | O9: =+IF(N9<M9,"OK","ERROR") -> ERROR
G10: Inv. Principal | K10: 1200 | L10: =H10/44 -> 0 | M10: =L10*K10 -> 0 | N10: =(I10*1000)/$N$25 -> 0 | O10: =+IF(N10<M10,"OK","ERROR") -> ERROR
G11: Inv. Principal | K11: 1200 | L11: =H11/44 -> 0 | M11: =L11*K11 -> 0 | N11: =(I11*1000)/$N$25 -> 0 | O11: =+IF(N11<M11,"OK","ERROR") -> ERROR
G12: Inv. Principal | K12: 1200 | L12: =H12/44 -> 0 | M12: =L12*K12 -> 0 | N12: =(I12*1000)/$N$25 -> 0 | O12: =+IF(N12<M12,"OK","ERROR") -> ERROR
G13: Inv. Principal | K13: 1200 | L13: =H13/44 -> 0 | M13: =L13*K13 -> 0 | N13: =(I13*1000)/$N$25 -> 0 | O13: =+IF(N13<M13,"OK","ERROR") -> ERROR
G14: Inv. Asociado(a) | K14: 1150 | L14: =H14/44 -> 0 | M14: =L14*K14 -> 0 | N14: =(I14*1000)/$N$25 -> 0 | O14: =+IF(N14<M14,"OK","ERROR") -> ERROR
G15: Inv. Asociado(a) | K15: 1150 | L15: =H15/44 -> 0 | M15: =L15*K15 -> 0 | N15: =(I15*1000)/$N$25 -> 0 | O15: =+IF(N15<M15,"OK","ERROR") -> ERROR
G16: Inv. Asociado(a) | K16: 1150 | L16: =H16/44 -> 0 | M16: =L16*K16 -> 0 | N16: =(I16*1000)/$N$25 -> 0 | O16: =+IF(N16<M16,"OK","ERROR") -> ERROR
G17: Inv. Asociado(a) | K17: 1150 | L17: =H17/44 -> 0 | M17: =L17*K17 -> 0 | N17: =(I17*1000)/$N$25 -> 0 | O17: =+IF(N17<M17,"OK","ERROR") -> ERROR
G18: Inv. Asociado(a) | K18: 1150 | L18: =H18/44 -> 0 | M18: =L18*K18 -> 0 | N18: =(I18*1000)/$N$25 -> 0 | O18: =+IF(N18<M18,"OK","ERROR") -> ERROR
G19: Inv. Asociado(a) | K19: 1150 | L19: =H19/44 -> 0 | M19: =L19*K19 -> 0 | N19: =(I19*1000)/$N$25 -> 0 | O19: =+IF(N19<M19,"OK","ERROR") -> ERROR
... G23: Otro(a) Invest. | K23: 1150 | L23: =H23/44 -> 0 | M23: =L23*K23 -> 0 | N23: =(I23*1000)/$N$25 -> 0 | O23: =+IF(N23<M23,"OK","ERROR") -> ERROR
B24: TOTALES | I24: =SUM(I8:I23) -> 0
K25: Valor UF (11 Abril 2022) | N25: 31795.21
B26: OTRAS CATEGORIAS | K26: Categoría | M26: Monto Máximo UF | N26: Monto Máximo (CLP) M$
B27: Montos en Miles de $
B28: Categoría | H28: =+H6 -> TOTALES | K28: Director(a) | M28: 1380 | N28: =(M28*$N$25)/1000 -> 43877.39
H29: N° de Personas | I29: Monto M$ | K29: Subdirector(a) | M29: 1200 | N29: =(M29*$N$25)/1000 -> 38154.252
B30: Investigadores Postdoctorales | K30: Investigador(a) Principal | M30: 1200 | N30: =(M30*$N$25)/1000 -> 38154.252
B31: Estudiantes de Doctorado | K31: Investigador(a) Asociado(a) y Otros(as) Investigadores(as) | M31: 1150 | N31: =(M31*$N$25)/1000 -> 36564.491
B32: Estudiantes de Magister | K32: Investigadores(as) Postdoctorales | M32: 1000 | N32: =(M32*$N$25)/1000 -> 31795.21
B33: Tesistas de Pregrado | K33: Estudiantes de Doctorado | M33: 895 | N33: =(M33*$N$25)/1000 -> 28456.713
B34: Personal de Apoyo | K34: Estudiantes de Magister | M34: 470 | N34: =(M34*$N$25)/1000 -> 14943.749
B35: Personal Administrativo | K35: Tesistas de Pregrado | M35: 135 | N35: =(M35*$N$25)/1000 -> 4292.3533
B36: TOTALES | I36: =SUM(I30:I35) -> 0 | K36: Personal de Apoyo | M36: 1500 | N36: =(M36*$N$25)/1000 -> 47692.815
B39: NOTA:
B40: 1.- Llenar todas las celdas, salvo los totales de cada ítem.-
B41: 2.- No usar tildes en los nombres.-

Sheet 2.2. Gastos Operacionales
A1: 2.2. PRESUPUESTO PARA GASTOS OPERACIONALES SOLICITADO A ANID
A4: Montos en Miles $
B5: Monto Total
A6: Gastos Operacionales
A7: Gastos Generales del Proyecto
A8: Internacionalización
A9: Publicaciones y Suscripciones
A10: Gastos de Pólizas de Seguro o Boletas de Garantía
A11: Consultorías
A12: TOTAL | B12: =SUM(B6:B11) -> 0
A14: NOTA:
A15: Llenar todas las celdas, salvo los totales de cada ítem.

Sheet 2.3. Gastos Pasajes y Estadia
A1: 2.2. PRESUPUESTO PARA VIEJES SOLICITADO A ANID
A4: Item
A5: VIÁTICOS
A6: Montos en Miles $
B7: Monto Total
A8: Nacionales
A9: Internacionales
A10: SUB-TOTAL | B10: =SUM(B8:B9) -> 0
A13: PASAJES
A14: Montos en Miles $
A15: Item | B15: Monto Total
A16: Nacionales
A17: Internacionales
A18: SUB-TOTAL | B18: =SUM(B16:B17) -> 0
A20: NOTA:
A21: Llenar todas las celdas, salvo los totales de cada ítem.

Sheet 2.4 Equipamiento
B2: 2.4. Equipamiento
B3: Montos Miles $
B4: Cantidad | C4: Descripción | D4: Monto Total | F4: Justification of Equipment: (Use as much space as you require) | O4: Justification of Equipment (Use as much space as you require)
B20: SUB-TOTAL | D20: =SUM(D6:D19) -> 0
B21: NOTA: Incluir equipos e instrumental requerido para la ejecución del Proyecto. Los montos considerados deben incluir gastos de traslado, bodegaje, internación e instalación además de todos los accesorios necesarios para su funcionamiento.

Sheet JUSTIFICACION

Sheet 3 .TOTAL APORTES
B1: 3. TOTAL PRESUPUESTO COMPROMETIDO POR LAS INSTITUCIONES
B3: Nº PROYECTO | C3: =+'2. PPTO ANID'!C3 -> 0
B4: NOMBRE CENTRO | C4: =+'2. PPTO ANID'!C4 -> 0
B5: DIRECTOR(A) | C5: =+'2. PPTO ANID'!C5 -> 0
B6: SUB-DIRECTOR(A) | C6: =+'2. PPTO ANID'!C6 -> 0
B7: INSTITUCION PATROCINANTE | C7: =+'2. PPTO ANID'!C7 -> 0
B8: INSTITUCION ASOCIADA 1 | C8: =+'2. PPTO ANID'!C8 -> 0
B9: INSTITUCION ASOCIADA 2 | C9: =+'2. PPTO ANID'!C9 -> 0
B10: INSTITUCION ASOCIADA 3 | C10: =+'2. PPTO ANID'!C10 -> 0
B11: INSTITUCION ASOCIADA 4 | C11: =+'2. PPTO ANID'!C11 -> 0
B12: INSTITUCION ASOCIADA 5 | C12: =+'2. PPTO ANID'!C12 -> 0
B13: INSTITUCION ASOCIADA 6 | C13: =+'2. PPTO ANID'!C13 -> 0
B14: INSTITUCION ASOCIADA 7 | C14: =+'2. PPTO ANID'!C14 -> 0
B15: INSTITUCION ASOCIADA 8 | C15: =+'2. PPTO ANID'!C15 -> 0
B17: Montos en Miles de $
B18: ITEM PRESUPUESTARIO | C18: APORTES COMPROMETIDOS
C19: PECUNIARIOS | D19: NO PECUNIARIOS | E19: Total
B20: Personal | C20: =SUM(C21:C27) -> 0 | D20: =SUM(D21:D27) -> 0 | E20: =SUM(E21:E27) -> 0
B21: =+'1. PPTO TOTAL CENTRO'!B23 -> Investigadores | C21: 0 | D21: ='3.1. PPTO INST PATROC'!D11+'3.2. PPTO INST ASOC 1'!D11+'3.3. PPTO INST ASOC 2'!D11+'3.4. PPTO INST ASOC 3'!D11+'3.5. PPTO INST ASOC 4'!D11+'3.6. PPTO INST ASOC 5'!D11+'3.7. PPTO INST ASOC 6'!D11+'3.8. PPTO INST ASOC 7'!D11+'3.9. PPTO INST ASOC 8'!D11 -> 0 | E21: =SUM(C21:D21) -> 0
B22: ='2.1. Personal'!B30:G30 -> Investigadores Postdoctorales | C22: ='3.1. PPTO INST PATROC'!C12+'3.2. PPTO INST ASOC 1'!C12+'3.3. PPTO INST ASOC 2'!C12+'3.4. PPTO INST ASOC 3'!C12+'3.5. PPTO INST ASOC 4'!C12+'3.6. PPTO INST ASOC 5'!C12+'3.7. PPTO INST ASOC 6'!C12+'3.8. PPTO INST ASOC 7'!C12+'3.9. PPTO INST ASOC 8'!C12 -> 0 | D22: ='3.1. PPTO INST PATROC'!D12+'3.2. PPTO INST ASOC 1'!D12+'3.3. PPTO INST ASOC 2'!D12+'3.4. PPTO INST ASOC 3'!D12+'3.5. PPTO INST ASOC 4'!D12+'3.6. PPTO INST ASOC 5'!D12+'3.7. PPTO INST ASOC 6'!D12+'3.8. PPTO INST ASOC 7'!D12+'3.9. PPTO INST ASOC 8'!D12 -> 0 | E22: =SUM(C22:D22) -> 0
B23: =+'1. PPTO TOTAL CENTRO'!B25 -> Estudiantes de Doctorado | C23: ='3.1. PPTO INST PATROC'!C13+'3.2. PPTO INST ASOC 1'!C13+'3.3. PPTO INST ASOC 2'!C13+'3.4. PPTO INST ASOC 3'!C13+'3.5. PPTO INST ASOC 4'!C13+'3.6. PPTO INST ASOC 5'!C13+'3.7. PPTO INST ASOC 6'!C13+'3.8. PPTO INST ASOC 7'!C13+'3.9. PPTO INST ASOC 8'!C13 -> 0 | D23: ='3.1. PPTO INST PATROC'!D13+'3.2. PPTO INST ASOC 1'!D13+'3.3. PPTO INST ASOC 2'!D13+'3.4. PPTO INST ASOC 3'!D13+'3.5. PPTO INST ASOC 4'!D13+'3.6. PPTO INST ASOC 5'!D13+'3.7. PPTO INST ASOC 6'!D13+'3.8. PPTO INST ASOC 7'!D13+'3.9. PPTO INST ASOC 8'!D13 -> 0 | E23: =SUM(C23:D23) -> 0
B24: =+'1. PPTO TOTAL CENTRO'!B26 -> Estudiantes de Magister | C24: ='3.1. PPTO INST PATROC'!C14+'3.2. PPTO INST ASOC 1'!C14+'3.3. PPTO INST ASOC 2'!C14+'3.4. PPTO INST ASOC 3'!C14+'3.5. PPTO INST ASOC 4'!C14+'3.6. PPTO INST ASOC 5'!C14+'3.7. PPTO INST ASOC 6'!C14+'3.8. PPTO INST ASOC 7'!C14+'3.9. PPTO INST ASOC 8'!C14 -> 0 | D24: ='3.1. PPTO INST PATROC'!D14+'3.2. PPTO INST ASOC 1'!D14+'3.3. PPTO INST ASOC 2'!D14+'3.4. PPTO INST ASOC 3'!D14+'3.5. PPTO INST ASOC 4'!D14+'3.6. PPTO INST ASOC 5'!D14+'3.7. PPTO INST ASOC 6'!D14+'3.8. PPTO INST ASOC 7'!D14+'3.9. PPTO INST ASOC 8'!D14 -> 0 | E24: =SUM(C24:D24) -> 0
B25: =+'1. PPTO TOTAL CENTRO'!B27 -> Tesistas de Pregrado | C25: ='3.1. PPTO INST PATROC'!C15+'3.2. PPTO INST ASOC 1'!C15+'3.3. PPTO INST ASOC 2'!C15+'3.4. PPTO INST ASOC 3'!C15+'3.5. PPTO INST ASOC 4'!C15+'3.6. PPTO INST ASOC 5'!C15+'3.7. PPTO INST ASOC 6'!C15+'3.8. PPTO INST ASOC 7'!C15+'3.9. PPTO INST ASOC 8'!C15 -> 0 | D25: ='3.1. PPTO INST PATROC'!D15+'3.2. PPTO INST ASOC 1'!D15+'3.3. PPTO INST ASOC 2'!D15+'3.4. PPTO INST ASOC 3'!D15+'3.5. PPTO INST ASOC 4'!D15+'3.6. PPTO INST ASOC 5'!D15+'3.7. PPTO INST ASOC 6'!D15+'3.8. PPTO INST ASOC 7'!D15+'3.9. PPTO INST ASOC 8'!D15 -> 0 | E25: =SUM(C25:D25) -> 0
B26: =+'1. PPTO TOTAL CENTRO'!B28 -> Personal de Apoyo | C26: ='3.1. PPTO INST PATROC'!C16+'3.2. PPTO INST ASOC 1'!C16+'3.3. PPTO INST ASOC 2'!C16+'3.4. PPTO INST ASOC 3'!C16+'3.5. PPTO INST ASOC 4'!C16+'3.6. PPTO INST ASOC 5'!C16+'3.7. PPTO INST ASOC 6'!C16+'3.8. PPTO INST ASOC 7'!C16+'3.9. PPTO INST ASOC 8'!C16 -> 0 | D26: ='3.1. PPTO INST PATROC'!D16+'3.2. PPTO INST ASOC 1'!D16+'3.3. PPTO INST ASOC 2'!D16+'3.4. PPTO INST ASOC 3'!D16+'3.5. PPTO INST ASOC 4'!D16+'3.6. PPTO INST ASOC 5'!D16+'3.7. PPTO INST ASOC 6'!D16+'3.8. PPTO INST ASOC 7'!D16+'3.9. PPTO INST ASOC 8'!D16 -> 0 | E26: =SUM(C26:D26) -> 0
B27: =+'1. PPTO TOTAL CENTRO'!B29 -> Personal Administrativo | C27: ='3.1. PPTO INST PATROC'!C17+'3.2. PPTO INST ASOC 1'!C17+'3.3. PPTO INST ASOC 2'!C17+'3.4. PPTO INST ASOC 3'!C17+'3.5. PPTO INST ASOC 4'!C17+'3.6. PPTO INST ASOC 5'!C17+'3.7. PPTO INST ASOC 6'!C17+'3.8. PPTO INST ASOC 7'!C17+'3.9. PPTO INST ASOC 8'!C17 -> 0 | D27: ='3.1. PPTO INST PATROC'!D17+'3.2. PPTO INST ASOC 1'!D17+'3.3. PPTO INST ASOC 2'!D17+'3.4. PPTO INST ASOC 3'!D17+'3.5. PPTO INST ASOC 4'!D17+'3.6. PPTO INST ASOC 5'!D17+'3.7. PPTO INST ASOC 6'!D17+'3.8. PPTO INST ASOC 7'!D17+'3.9. PPTO INST ASOC 8'!D17 -> 0 | E27: =SUM(C27:D27) -> 0
B28: =+'1. PPTO TOTAL CENTRO'!B30 -> Gastos de Operación | C28: =SUM(C29:C30) -> 0 | D28: =SUM(D29:D30) -> 0 | E28: =SUM(E29:E30) -> 0
B29: =+'1. PPTO TOTAL CENTRO'!B31 -> Gastos Operacionales | C29: ='3.1. PPTO INST PATROC'!C19+'3.2. PPTO INST ASOC 1'!C19+'3.3. PPTO INST ASOC 2'!C19+'3.4. PPTO INST ASOC 3'!C19+'3.5. PPTO INST ASOC 4'!C19+'3.6. PPTO INST ASOC 5'!C19+'3.7. PPTO INST ASOC 6'!C19+'3.8. PPTO INST ASOC 7'!C19+'3.9. PPTO INST ASOC 8'!C19 -> 0 | D29: ='3.1. PPTO INST PATROC'!D19+'3.2. PPTO INST ASOC 1'!D19+'3.3. PPTO INST ASOC 2'!D19+'3.4. PPTO INST ASOC 3'!D19+'3.5. PPTO INST ASOC 4'!D19+'3.6. PPTO INST ASOC 5'!D19+'3.7. PPTO INST ASOC 6'!D19+'3.8. PPTO INST ASOC 7'!D19+'3.9. PPTO INST ASOC 8'!D19 -> 0 | E29: =SUM(C29:D29) -> 0
B30: =+'1. PPTO TOTAL CENTRO'!B32 -> Gastos de Pasajes y Estadía | C30: ='3.1. PPTO INST PATROC'!C20+'3.2. PPTO INST ASOC 1'!C20+'3.3. PPTO INST ASOC 2'!C20+'3.4. PPTO INST ASOC 3'!C20+'3.5. PPTO INST ASOC 4'!C20+'3.6. PPTO INST ASOC 5'!C20+'3.7. PPTO INST ASOC 6'!C20+'3.8. PPTO INST ASOC 7'!C20+'3.9. PPTO INST ASOC 8'!C20 -> 0 | D30: ='3.1. PPTO INST PATROC'!D20+'3.2. PPTO INST ASOC 1'!D20+'3.3. PPTO INST ASOC 2'!D20+'3.4. PPTO INST ASOC 3'!D20+'3.5. PPTO INST ASOC 4'!D20+'3.6. PPTO INST ASOC 5'!D20+'3.7. PPTO INST ASOC 6'!D20+'3.8. PPTO INST ASOC 7'!D20+'3.9. PPTO INST ASOC 8'!D20 -> 0 | E30: =SUM(C30:D30) -> 0
B31: Equipamiento | C31: ='3.1. PPTO INST PATROC'!C21+'3.2. PPTO INST ASOC 1'!C21+'3.3. PPTO INST ASOC 2'!C21+'3.4. PPTO INST ASOC 3'!C21+'3.5. PPTO INST ASOC 4'!C21+'3.6. PPTO INST ASOC 5'!C21+'3.7. PPTO INST ASOC 6'!C21+'3.8. PPTO INST ASOC 7'!C21+'3.9. PPTO INST ASOC 8'!C21 -> 0 | D31: ='3.1. PPTO INST PATROC'!D21+'3.2. PPTO INST ASOC 1'!D21+'3.3. PPTO INST ASOC 2'!D21+'3.4. PPTO INST ASOC 3'!D21+'3.5. PPTO INST ASOC 4'!D21+'3.6. PPTO INST ASOC 5'!D21+'3.7. PPTO INST ASOC 6'!D21+'3.8. PPTO INST ASOC 7'!D21+'3.9. PPTO INST ASOC 8'!D21 -> 0 | E31: =C31+D31 -> 0
B32: Total M$ | C32: =+C20+C28+C31 -> 0 | D32: =+D20+D28+D31 -> 0 | E32: =+E20+E28+E31 -> 0
B34: % Aporte pecuniario total solicitado a ANID (Min. 8% del Total Recursos solicitados a ANID) | C34: =+IF(C32>0,C32/'2. PPTO ANID'!C33,0) -> 0
B35: % Aporte NO pecuniario total solicitado a ANID (Min. 2% del Total Recursos solicitados a ANID) | C35: =+IF(D32>0,D32/'2. PPTO ANID'!C33,0) -> 0
B42: NOTA:
B43: No llenar, las celdas se actualizan automáticamente.

Sheet 3.10 Personal INSTITUCIONAL
B1: 3.10. PRESUPUESTO PARA GASTOS EN PERSONAL COMPROMETIDO POR LAS INSTITUCIONES PARTICIPANTES
B4: INVESTIGADORES(AS)
B5: Montos en Miles de $ | H5: Inst P.1 | J5: Inst. As. 1 | L5: Inst. As. 2 | N5: Inst. As. 3 | P5: Inst. As. 4 | R5: Inst. As. 5 | T5: Inst. As. 6 | V5: Inst. As. 7 | X5: Inst. As. 8
B6: Apellido Paterno | C6: Apellido Materno | D6: Nombre | E6: RUT | F6: Programa asociado / Línea de Investigación | G6: Categoría | H6: =+'2. PPTO ANID'!C7 -> 0 | J6: =+'2. PPTO ANID'!C8 -> 0 | L6: =+'2. PPTO ANID'!C9 -> 0 | N6: =+'2. PPTO ANID'!C10 -> 0 | P6: =+'2. PPTO ANID'!C11 -> 0 | R6: =+'2. PPTO ANID'!C12 -> 0 | T6: =+'2. PPTO ANID'!C13 -> 0 | V6: =+'2. PPTO ANID'!C14 -> 0 | X6: =+'2. PPTO ANID'!C15 -> 0 | Z6: TOTALES
H7: Hrs / sem. | I7: Monto M$ | J7: Hrs / semana | K7: Monto M$ | L7: Hrs / semana | M7: Monto M$ | N7: Hrs / semana | O7: Monto M$ | P7: Hrs / semana | Q7: Monto M$ | R7: Hrs / semana | S7: Monto M$ | T7: Hrs / semana | U7: Monto M$ | V7: Hrs / semana | W7: Monto M$ | X7: Hrs / semana | Y7: Monto M$ | Z7: Hrs / semana | AA7: Monto M$
G8: Director(a) | H8: 0 | I8: 0 | J8: 0 | K8: 0 | L8: 0 | M8: 0 | N8: 0 | O8: 0 | P8: 0 | Q8: 0 | R8: 0 | S8: 0 | T8: 0 | U8: 0 | V8: 0 | W8: 0 | X8: 0 | Y8: 0 | Z8: =+H8+J8+L8+N8+P8+R8+T8+V8+X8 -> 0 | AA8: =+I8+K8+M8+O8+Q8+S8+U8+W8+Y8 -> 0
G9: Sub-Director(a) | H9: 0 | I9: 0 | J9: 0 | K9: 0 | L9: 0 | M9: 0 | N9: 0 | O9: 0 | P9: 0 | Q9: 0 | R9: 0 | S9: 0 | T9: 0 | U9: 0 | V9: 0 | W9: 0 | X9: 0 | Y9: 0 | Z9: =+H9+J9+L9+N9+P9+R9+T9+V9+X9 -> 0 | AA9: =+I9+K9+M9+O9+Q9+S9+U9+W9+Y9 -> 0
G10: Inv. Principal | H10: 0 | I10: 0 | J10: 0 | K10: 0 | L10: 0 | M10: 0 | N10: 0 | O10: 0 | P10: 0 | Q10: 0 | R10: 0 | S10: 0 | T10: 0 | U10: 0 | V10: 0 | W10: 0 | X10: 0 | Y10: 0 | Z10: =+H10+J10+L10+N10+P10+R10+T10+V10+X10 -> 0 | AA10: =+I10+K10+M10+O10+Q10+S10+U10+W10+Y10 -> 0
G11: Inv. Principal | H11: 0 | I11: 0 | J11: 0 | K11: 0 | L11: 0 | M11: 0 | N11: 0 | O11: 0 | P11: 0 | Q11: 0 | R11: 0 | S11: 0 | T11: 0 | U11: 0 | V11: 0 | W11: 0 | X11: 0 | Y11: 0 | Z11: =+H11+J11+L11+N11+P11+R11+T11+V11+X11 -> 0 | AA11: =+I11+K11+M11+O11+Q11+S11+U11+W11+Y11 -> 0
G12: Inv. Principal | H12: 0 | I12: 0 | J12: 0 | K12: 0 | L12: 0 | M12: 0 | N12: 0 | O12: 0 | P12: 0 | Q12: 0 | R12: 0 | S12: 0 | T12: 0 | U12: 0 | V12: 0 | W12: 0 | X12: 0 | Y12: 0 | Z12: =+H12+J12+L12+N12+P12+R12+T12+V12+X12 -> 0 | AA12: =+I12+K12+M12+O12+Q12+S12+U12+W12+Y12 -> 0
G13: Inv. Principal | H13: 0 | I13: 0 | J13: 0 | K13: 0 | L13: 0 | M13: 0 | N13: 0 | O13: 0 | P13: 0 | Q13: 0 | R13: 0 | S13: 0 | T13: 0 | U13: 0 | V13: 0 | W13: 0 | X13: 0 | Y13: 0 | Z13: =+H13+J13+L13+N13+P13+R13+T13+V13+X13 -> 0 | AA13: =+I13+K13+M13+O13+Q13+S13+U13+W13+Y13 -> 0
G14: Inv. Asociado(a) | H14: 0 | I14: 0 | J14: 0 | K14: 0 | L14: 0 | M14: 0 | N14: 0 | O14: 0 | P14: 0 | Q14: 0 | R14: 0 | S14: 0 | T14: 0 | U14: 0 | V14: 0 | W14: 0 | X14: 0 | Y14: 0 | Z14: =+H14+J14+L14+N14+P14+R14+T14+V14+X14 -> 0 | AA14: =+I14+K14+M14+O14+Q14+S14+U14+W14+Y14 -> 0
G15: Inv. Asociado(a) | H15: 0 | I15: 0 | J15: 0 | K15: 0 | L15: 0 | M15: 0 | N15: 0 | O15: 0 | P15: 0 | Q15: 0 | R15: 0 | S15: 0 | T15: 0 | U15: 0 | V15: 0 | W15: 0 | X15: 0 | Y15: 0 | Z15: =+H15+J15+L15+N15+P15+R15+T15+V15+X15 -> 0 | AA15: =+I15+K15+M15+O15+Q15+S15+U15+W15+Y15 -> 0
G16: Inv. Asociado(a) | H16: 0 | I16: 0 | J16: 0 | K16: 0 | L16: 0 | M16: 0 | N16: 0 | O16: 0 | P16: 0 | Q16: 0 | R16: 0 | S16: 0 | T16: 0 | U16: 0 | V16: 0 | W16: 0 | X16: 0 | Y16: 0 | Z16: =+H16+J16+L16+N16+P16+R16+T16+V16+X16 -> 0 | AA16: =+I16+K16+M16+O16+Q16+S16+U16+W16+Y16 -> 0
G17: Inv. Asociado(a) | H17: 0 | I17: 0 | J17: 0 | K17: 0 | L17: 0 | M17: 0 | N17: 0 | O17: 0 | P17: 0 | Q17: 0 | R17: 0 | S17: 0 | T17: 0 | U17: 0 | V17: 0 | W17: 0 | X17: 0 | Y17: 0 | Z17: =+H17+J17+L17+N17+P17+R17+T17+V17+X17 -> 0 | AA17: =+I17+K17+M17+O17+Q17+S17+U17+W17+Y17 -> 0
G18: Inv. Asociado(a) | H18: 0 | I18: 0 | J18: 0 | K18: 0 | L18: 0 | M18: 0 | N18: 0 | O18: 0 | P18: 0 | Q18: 0 | R18: 0 | S18: 0 | T18: 0 | U18: 0 | V18: 0 | W18: 0 | X18: 0 | Y18: 0 | Z18: =+H18+J18+L18+N18+P18+R18+T18+V18+X18 -> 0 | AA18: =+I18+K18+M18+O18+Q18+S18+U18+W18+Y18 -> 0
G19: Inv. Asociado(a) | H19: 0 | I19: 0 | J19: 0 | K19: 0 | L19: 0 | M19: 0 | N19: 0 | O19: 0 | P19: 0 | Q19: 0 | R19: 0 | S19: 0 | T19: 0 | U19: 0 | V19: 0 | W19: 0 | X19: 0 | Y19: 0 | Z19: =+H19+J19+L19+N19+P19+R19+T19+V19+X19 -> 0 | AA19: =+I19+K19+M19+O19+Q19+S19+U19+W19+Y19 -> 0
... G24: Otro(a) Invest. | H24: 0 | I24: 0 | J24: 0 | K24: 0 | L24: 0 | M24: 0 | N24: 0 | O24: 0 | P24: 0 | Q24: 0 | R24: 0 | S24: 0 | T24: 0 | U24: 0 | V24: 0 | W24: 0 | X24: 0 | Y24: 0 | Z24: =+H24+J24+L24+N24+P24+R24+T24+V24+X24 -> 0 | AA24: =+I24+K24+M24+O24+Q24+S24+U24+W24+Y24 -> 0
B25: TOTALES | I25: =SUM(I8:I24) -> 0 | K25: =SUM(K8:K24) -> 0 | M25: =SUM(M8:M24) -> 0 | O25: =SUM(O8:O24) -> 0 | Q25: =SUM(Q8:Q24) -> 0 | S25: =SUM(S8:S24) -> 0 | U25: =SUM(U8:U24) -> 0 | W25: =SUM(W8:W24) -> 0 | Y25: =SUM(Y8:Y24) -> 0 | AA25: =SUM(AA8:AA24) -> 0
B27: OTRAS CATEGORIAS
B28: Montos en Miles de $
B29: Categoría | H29: =+H6 -> 0 | J29: =+J6 -> 0 | L29: =+L6 -> 0 | N29: =+N6 -> 0 | P29: =+P6 -> 0 | R29: =+R6 -> 0 | T29: =+T6 -> 0 | V29: =+V6 -> 0 | X29: =+X6 -> 0 | Z29: TOTALES
H30: N° de Personas | I30: Monto M$ | J30: N° de Personas | K30: Monto M$ | L30: N° de Personas | M30: Monto M$ | N30: N° de Personas | O30: Monto M$ | P30: N° de Personas | Q30: Monto M$ | R30: N° de Personas | S30: Monto M$ | T30: N° de Personas | U30: Monto M$ | V30: N° de Personas | W30: Monto M$ | X30: N° de Personas | Y30: Monto M$ | Z30: N° de Personas | AA30: Monto M$
B31: Nuevas Contrataciones (nuevos investigadores) | Z31: =+H31+J31+L31+N31+P31+R31+T31+V31+X31 -> 0 | AA31: =+I31+K31+M31+O31+Q31+S31+U31+W31+Y31 -> 0
B32: Postdoctorantes | Z32: =+H32+J32+L32+N32+P32+R32+T32+V32+X32 -> 0 | AA32: =+I32+K32+M32+O32+Q32+S32+U32+W32+Y32 -> 0
B33: Estudiantes de Doctorado | Z33: =+H33+J33+L33+N33+P33+R33+T33+V33+X33 -> 0 | AA33: =+I33+K33+M33+O33+Q33+S33+U33+W33+Y33 -> 0
B34: Estudiantes de Magister | Z34: =+H34+J34+L34+N34+P34+R34+T34+V34+X34 -> 0 | AA34: =+I34+K34+M34+O34+Q34+S34+U34+W34+Y34 -> 0
B35: Tesistas de Pregrado | Z35: =+H35+J35+L35+N35+P35+R35+T35+V35+X35 -> 0 | AA35: =+I35+K35+M35+O35+Q35+S35+U35+W35+Y35 -> 0
B36: Personal de Apoyo | Z36: =+H36+J36+L36+N36+P36+R36+T36+V36+X36 -> 0 | AA36: =+I36+K36+M36+O36+Q36+S36+U36+W36+Y36 -> 0
B37: Personal Administrativo | Z37: =+H37+J37+L37+N37+P37+R37+T37+V37+X37 -> 0 | AA37: =+I37+K37+M37+O37+Q37+S37+U37+W37+Y37 -> 0
B38: TOTALES | I38: =SUM(I31:I37) -> 0 | K38: =SUM(K31:K37) -> 0 | M38: =SUM(M31:M37) -> 0 | O38: =SUM(O31:O37) -> 0 | Q38: =SUM(Q31:Q37) -> 0 | S38: =SUM(S31:S37) -> 0 | U38: =SUM(U31:U37) -> 0 | W38: =SUM(W31:W37) -> 0 | Y38: =SUM(Y31:Y37) -> 0 | AA38: =SUM(AA31:AA37) -> 0
B40: NOTA:
B41: 1.- Llenar todas las celdas, salvo los totales de cada ítem.
B42: 2.- No usar tildes en los nombres.

Sheet 3.11. Equipamiento INSTITUC
B2: 3.11. Detalle Equipamiento (Aporte Institucional)
B3: Montos Miles $ | D3: Inst P.1 | F3: Inst. As. 1 | H3: Inst. As. 2 | J3: Inst. As. 3 | L3: Inst. As. 4 | N3: Inst. As. 5 | P3: Inst. As. 6 | R3: Inst. As. 7 | T3: Inst. As. 8
B4: Cantidad | C4: Descripción | D4: ='2. PPTO ANID'!C7 -> 0 | F4: ='2. PPTO ANID'!E7 -> 0 | H4: ='2. PPTO ANID'!G7 -> 0 | J4: ='2. PPTO ANID'!I7 -> 0 | L4: ='2. PPTO ANID'!K7 -> 0 | N4: ='2. PPTO ANID'!M7 -> 0 | P4: ='2. PPTO ANID'!O7 -> 0 | R4: ='2. PPTO ANID'!Q7 -> 0 | T4: ='2. PPTO ANID'!S7 -> 0 | V4: =+'[1]2. PPTO FONDAP'!F12 -> Total
D5: Pecuniario | E5: No Pecuniario | F5: Pecuniario | G5: No Pecuniario | H5: Pecuniario | I5: No Pecuniario | J5: Pecuniario | K5: No Pecuniario | L5: Pecuniario | M5: No Pecuniario | N5: Pecuniario | O5: No Pecuniario | P5: Pecuniario | Q5: No Pecuniario | R5: Pecuniario | S5: No Pecuniario | T5: Pecuniario | U5: No Pecuniario
V6: =SUM(D6:U6) -> 0
V7: =SUM(D7:U7) -> 0
V8: =SUM(D8:U8) -> 0
V9: =SUM(D9:U9) -> 0
V10: =SUM(D10:U10) -> 0
V11: =SUM(D11:U11) -> 0
V12: =SUM(D12:U12) -> 0
V13: =SUM(D13:U13) -> 0
V14: =SUM(D14:U14) -> 0
V15: =SUM(D15:U15) -> 0
V16: =SUM(D16:U16) -> 0
V17: =SUM(D17:U17) -> 0
... V19: =SUM(D19:U19) -> 0
B20: SUB-TOTAL | D20: =SUM(D6:D19) -> 0 | E20: =SUM(E6:E19) -> 0 | F20: =SUM(F6:F19) -> 0 | G20: =SUM(G6:G19) -> 0 | H20: =SUM(H6:H19) -> 0 | I20: =SUM(I6:I19) -> 0 | J20: =SUM(J6:J19) -> 0 | K20: =SUM(K6:K19) -> 0 | ... V20: =SUM(V6:V19) -> 0

Sheet 3.1. PPTO INST PATROC
B1: 3.1. PRESUPUESTO COMPROMETIDO POR LA INSTITUCIÓN PATROCINANTE
B3: Nº PROYECTO | C3: =VLOOKUP($B3,'1. PPTO TOTAL CENTRO'!$B$5:$E$18,2,0) -> 0
B4: NOMBRE CENTRO | C4: =VLOOKUP($B4,'1. PPTO TOTAL CENTRO'!$B$5:$E$18,2,0) -> 0
B5: INSTITUCION PATROCINANTE | C5: =VLOOKUP($B5,'1. PPTO TOTAL CENTRO'!$B$5:$E$18,2,0) -> 0
B7: Montos en Miles de $
B8: ITEM PRESUPUESTARIO | C8: APORTES COMPROMETIDOS
C9: PECUNIARIOS | D9: NO PECUNIARIOS | E9: Total
B10: Personal | C10: =SUM(C11:C17) -> 0 | D10: =SUM(D11:D17) -> 0 | E10: =SUM(E11:E17) -> 0
B11: =+'3 .TOTAL APORTES'!B21 -> Investigadores | C11: 0 | D11: 0 | E11: =SUM(C11:D11) -> 0
B12: =+'3 .TOTAL APORTES'!B22 -> Investigadores Postdoctorales | C12: 0 | D12: 0 | E12: =SUM(C12:D12) -> 0
B13: =+'3 .TOTAL APORTES'!B23 -> Estudiantes de Doctorado | C13: 0 | D13: 0 | E13: =SUM(C13:D13) -> 0
B14: =+'3 .TOTAL APORTES'!B24 -> Estudiantes de Magister | C14: 0 | D14: 0 | E14: =SUM(C14:D14) -> 0
B15: =+'3 .TOTAL APORTES'!B25 -> Tesistas de Pregrado | C15: 0 | D15: 0 | E15: =SUM(C15:D15) -> 0
B16: =+'3 .TOTAL APORTES'!B26 -> Personal de Apoyo | C16: 0 | D16: 0 | E16: =SUM(C16:D16) -> 0
B17: =+'3 .TOTAL APORTES'!B27 -> Personal Administrativo | C17: 0 | D17: 0 | E17: =SUM(C17:D17) -> 0
B18: =+'3 .TOTAL APORTES'!B28 -> Gastos de Operación | C18: =SUM(C19:C20) -> 0 | D18: =SUM(D19:D20) -> 0 | E18: =SUM(E19:E20) -> 0
B19: =+'3 .TOTAL APORTES'!B29 -> Gastos Operacionales | C19: 0 | D19: 0 | E19: =SUM(C19:D19) -> 0
B20: =+'3 .TOTAL APORTES'!B30 -> Gastos de Pasajes y Estadía | C20: 0 | D20: 0 | E20: =SUM(C20:D20) -> 0
B21: Equipamiento | C21: ='3.11. Equipamiento INSTITUC'!D20 -> 0 | D21: ='3.11. Equipamiento INSTITUC'!E20 -> 0 | E21: =SUM(C21:D21) -> 0
B22: Total M$ | C22: =+C10+C18+C21 -> 0 | D22: =+D10+D18+D21 -> 0 | E22: =+E10+E18+E21 -> 0
B28: Llenar todas las celdas, salvo los totales de cada ítem y las celdas en gris.

Sheet 3.2. PPTO INST ASOC 1
B1: 3.2. PRESUPUESTO COMPROMETIDO POR LA(S) INSTITUCIÓN(ES) ASOCIADA(S)
B3: Nº PROYECTO | C3: =VLOOKUP($B3,'1. PPTO TOTAL CENTRO'!$B$5:$E$18,2,0) -> 0
B4: NOMBRE CENTRO | C4: =VLOOKUP($B4,'1. PPTO TOTAL CENTRO'!$B$5:$E$18,2,0) -> 0
B5: INSTITUCION ASOCIADA 1 | C5: =VLOOKUP($B5,'1. PPTO TOTAL CENTRO'!$B$5:$E$18,2,0) -> 0
B7: Montos en Miles de $
B8: ITEM PRESUPUESTARIO | C8: APORTES COMPROMETIDOS
C9: PECUNIARIOS | D9: NO PECUNIARIOS | E9: Total
B10: Personal | C10: =SUM(C11:C17) -> 0 | D10: =SUM(D11:D17) -> 0 | E10: =SUM(E11:E17) -> 0
B11: =+'3 .TOTAL APORTES'!B21 -> Investigadores | C11: 0 | D11: 0 | E11: =SUM(C11:D11) -> 0
B12: =+'3 .TOTAL APORTES'!B22 -> Investigadores Postdoctorales | C12: 0 | D12: 0 | E12: =SUM(C12:D12) -> 0
B13: =+'3 .TOTAL APORTES'!B23 -> Estudiantes de Doctorado | C13: 0 | D13: 0 | E13: =SUM(C13:D13) -> 0
B14: =+'3 .TOTAL APORTES'!B24 -> Estudiantes de Magister | C14: 0 | D14: 0 | E14: =SUM(C14:D14) -> 0
B15: =+'3 .TOTAL APORTES'!B25 -> Tesistas de Pregrado | C15: 0 | D15: 0 | E15: =SUM(C15:D15) -> 0
B16: =+'3 .TOTAL APORTES'!B26 -> Personal de Apoyo | C16: 0 | D16: 0 | E16: =SUM(C16:D16) -> 0
B17: =+'3 .TOTAL APORTES'!B27 -> Personal Administrativo | C17: 0 | D17: 0 | E17: =SUM(C17:D17) -> 0
B18: =+'3 .TOTAL APORTES'!B28 -> Gastos de Operación | C18: =SUM(C19:C20) -> 0 | D18: =SUM(D19:D20) -> 0 | E18: =SUM(E19:E20) -> 0
B19: =+'3 .TOTAL APORTES'!B29 -> Gastos Operacionales | C19: 0 | D19: 0 | E19: =SUM(C19:D19) -> 0
B20: =+'3 .TOTAL APORTES'!B30 -> Gastos de Pasajes y Estadía | C20: 0 | D20: 0 | E20: =SUM(C20:D20) -> 0
B21: Equipamiento | C21: ='3.11. Equipamiento INSTITUC'!F20 -> 0 | D21: ='3.11. Equipamiento INSTITUC'!G20 -> 0 | E21: =SUM(C21:D21) -> 0
B22: Total M$ | C22: =+C10+C18+C21 -> 0 | D22: =+D10+D18+D21 -> 0 | E22: =+E10+E18+E21 -> 0
B24: % Aporte pecuniario Inst.Asociadas solicitado a ANID (Min. 1% del Total Recursos solicitados a ANID) | C24: =+IF(C22>0,C22/'2. PPTO ANID'!C33,0) -> 0
B27: NOTA:
B28: Llenar todas las celdas, salvo los totales de cada ítem y las celdas en gris.

Sheet 3.3. PPTO INST ASOC 2
B1: 3.3. PRESUPUESTO COMPROMETIDO POR LA(S) INSTITUCIÓN(ES) ASOCIADA(S)
B3: Nº PROYECTO | C3: =VLOOKUP($B3,'1. PPTO TOTAL CENTRO'!$B$5:$E$18,2,0) -> 0
B4: NOMBRE CENTRO | C4: =VLOOKUP($B4,'1. PPTO TOTAL CENTRO'!$B$5:$E$18,2,0) -> 0
B5: INSTITUCION ASOCIADA 2 | C5: =VLOOKUP($B5,'1. PPTO TOTAL CENTRO'!$B$5:$E$18,2,0) -> 0
B7: Montos en Miles de $
B8: ITEM PRESUPUESTARIO | C8: APORTES COMPROMETIDOS
C9: PECUNIARIOS | D9: NO PECUNIARIOS | E9: Total
B10: Personal | C10: =SUM(C11:C17) -> 0 | D10: =SUM(D11:D17) -> 0 | E10: =SUM(E11:E17) -> 0
B11: =+'3 .TOTAL APORTES'!B21 -> Investigadores | C11: 0 | D11: 0 | E11: =SUM(C11:D11) -> 0
B12: =+'3 .TOTAL APORTES'!B22 -> Investigadores Postdoctorales | C12: 0 | D12: 0 | E12: =SUM(C12:D12) -> 0
B13: =+'3 .TOTAL APORTES'!B23 -> Estudiantes de Doctorado | C13: 0 | D13: 0 | E13: =SUM(C13:D13) -> 0
B14: =+'3 .TOTAL APORTES'!B24 -> Estudiantes de Magister | C14: 0 | D14: 0 | E14: =SUM(C14:D14) -> 0
B15: =+'3 .TOTAL APORTES'!B25 -> Tesistas de Pregrado | C15: 0 | D15: 0 | E15: =SUM(C15:D15) -> 0
B16: =+'3 .TOTAL APORTES'!B26 -> Personal de Apoyo | C16: 0 | D16: 0 | E16: =SUM(C16:D16) -> 0
B17: =+'3 .TOTAL APORTES'!B27 -> Personal Administrativo | C17: 0 | D17: 0 | E17: =SUM(C17:D17) -> 0
B18: =+'3 .TOTAL APORTES'!B28 -> Gastos de Operación | C18: =SUM(C19:C20) -> 0 | D18: =SUM(D19:D20) -> 0 | E18: =SUM(E19:E20) -> 0
B19: =+'3 .TOTAL APORTES'!B29 -> Gastos Operacionales | C19: 0 | D19: 0 | E19: =SUM(C19:D19) -> 0
B20: =+'3 .TOTAL APORTES'!B30 -> Gastos de Pasajes y Estadía | C20: 0 | D20: 0 | E20: =SUM(C20:D20) -> 0
B21: Equipamiento | C21: ='3.11. Equipamiento INSTITUC'!H20 -> 0 | D21: ='3.11. Equipamiento INSTITUC'!I20 -> 0 | E21: =SUM(C21:D21) -> 0
B22: Total M$ | C22: =+C10+C18+C21 -> 0 | D22: =+D10+D18+D21 -> 0 | E22: =+E10+E18+E21 -> 0
B24: % Aporte pecuniario Inst.Asociadas solicitado a ANID (Min. 1% del Total Recursos solicitados a ANID) | C24: =+IF(C22>0,C22/'2. PPTO ANID'!C33,0) -> 0
B28: NOTA:
B29: Llenar todas las celdas, salvo los totales de cada ítem y las celdas en gris.

Sheet 3.4. PPTO INST ASOC 3
B1: 3.4. PRESUPUESTO COMPROMETIDO POR LA(S) INSTITUCIÓN(ES) ASOCIADA(S)
B3: Nº PROYECTO | C3: =VLOOKUP($B3,'1. PPTO TOTAL CENTRO'!$B$5:$E$18,2,0) -> 0
B4: NOMBRE CENTRO | C4: =VLOOKUP($B4,'1. PPTO TOTAL CENTRO'!$B$5:$E$18,2,0) -> 0
B5: INSTITUCION ASOCIADA 3 | C5: =VLOOKUP($B5,'1. PPTO TOTAL CENTRO'!$B$5:$E$18,2,0) -> 0
B7: Montos en Miles de $
B8: ITEM PRESUPUESTARIO | C8: APORTES COMPROMETIDOS
C9: PECUNIARIOS | D9: NO PECUNIARIOS | E9: Total
B10: Personal | C10: =SUM(C11:C17) -> 0 | D10: =SUM(D11:D17) -> 0 | E10: =SUM(E11:E17) -> 0
B11: =+'3 .TOTAL APORTES'!B21 -> Investigadores | C11: 0 | D11: 0 | E11: =SUM(C11:D11) -> 0
B12: =+'3 .TOTAL APORTES'!B22 -> Investigadores Postdoctorales | C12: 0 | D12: 0 | E12: =SUM(C12:D12) -> 0
B13: =+'3 .TOTAL APORTES'!B23 -> Estudiantes de Doctorado | C13: 0 | D13: 0 | E13: =SUM(C13:D13) -> 0
B14: =+'3 .TOTAL APORTES'!B24 -> Estudiantes de Magister | C14: 0 | D14: 0 | E14: =SUM(C14:D14) -> 0
B15: =+'3 .TOTAL APORTES'!B25 -> Tesistas de Pregrado | C15: 0 | D15: 0 | E15: =SUM(C15:D15) -> 0
B16: =+'3 .TOTAL APORTES'!B26 -> Personal de Apoyo | C16: 0 | D16: 0 | E16: =SUM(C16:D16) -> 0
B17: =+'3 .TOTAL APORTES'!B27 -> Personal Administrativo | C17: 0 | D17: 0 | E17: =SUM(C17:D17) -> 0
B18: =+'3 .TOTAL APORTES'!B28 -> Gastos de Operación | C18: =SUM(C19:C20) -> 0 | D18: =SUM(D19:D20) -> 0 | E18: =SUM(E19:E20) -> 0
B19: =+'3 .TOTAL APORTES'!B29 -> Gastos Operacionales | C19: 0 | D19: 0 | E19: =SUM(C19:D19) -> 0
B20: =+'3 .TOTAL APORTES'!B30 -> Gastos de Pasajes y Estadía | C20: 0 | D20: 0 | E20: =SUM(C20:D20) -> 0
B21: Equipamiento | C21: ='3.11. Equipamiento INSTITUC'!J20 -> 0 | D21: ='3.11. Equipamiento INSTITUC'!K20 -> 0 | E21: =SUM(C21:D21) -> 0
B22: Total M$ | C22: =+C10+C18+C21 -> 0 | D22: =+D10+D18+D21 -> 0 | E22: =+E10+E18+E21 -> 0
B24: % Aporte pecuniario Inst.Asociadas solicitado a ANID (Min. 1% del Total Recursos solicitados a ANID) | C24: =+IF(C22>0,C22/'2. PPTO ANID'!C33,0) -> 0
B28: NOTA:
B29: Llenar todas las celdas, salvo los totales de cada ítem y las celdas en gris.

Sheet 3.5. PPTO INST ASOC 4
B1: 3.5. PRESUPUESTO COMPROMETIDO POR LA(S) INSTITUCIÓN(ES) ASOCIADA(S)
B3: Nº PROYECTO | C3: =VLOOKUP($B3,'1. PPTO TOTAL CENTRO'!$B$5:$E$18,2,0) -> 0
B4: NOMBRE CENTRO | C4: =VLOOKUP($B4,'1. PPTO TOTAL CENTRO'!$B$5:$E$18,2,0) -> 0
B5: INSTITUCION ASOCIADA 4 | C5: =VLOOKUP($B5,'1. PPTO TOTAL CENTRO'!$B$5:$E$18,2,0) -> 0
B7: Montos en Miles de $
B8: ITEM PRESUPUESTARIO | C8: APORTES COMPROMETIDOS
C9: PECUNIARIOS | D9: NO PECUNIARIOS | E9: Total
B10: Personal | C10: =SUM(C11:C17) -> 0 | D10: =SUM(D11:D17) -> 0 | E10: =SUM(E11:E17) -> 0
B11: =+'3 .TOTAL APORTES'!B21 -> Investigadores | C11: 0 | D11: 0 | E11: =SUM(C11:D11) -> 0
B12: =+'3 .TOTAL APORTES'!B22 -> Investigadores Postdoctorales | C12: 0 | D12: 0 | E12: =SUM(C12:D12) -> 0
B13: =+'3 .TOTAL APORTES'!B23 -> Estudiantes de Doctorado | C13: 0 | D13: 0 | E13: =SUM(C13:D13) -> 0
B14: =+'3 .TOTAL APORTES'!B24 -> Estudiantes de Magister | C14: 0 | D14: 0 | E14: =SUM(C14:D14) -> 0
B15: =+'3 .TOTAL APORTES'!B25 -> Tesistas de Pregrado | C15: 0 | D15: 0 | E15: =SUM(C15:D15) -> 0
B16: =+'3 .TOTAL APORTES'!B26 -> Personal de Apoyo | C16: 0 | D16: 0 | E16: =SUM(C16:D16) -> 0
B17: =+'3 .TOTAL APORTES'!B27 -> Personal Administrativo | C17: 0 | D17: 0 | E17: =SUM(C17:D17) -> 0
B18: =+'3 .TOTAL APORTES'!B28 -> Gastos de Operación | C18: =SUM(C19:C20) -> 0 | D18: =SUM(D19:D20) -> 0 | E18: =SUM(E19:E20) -> 0
B19: =+'3 .TOTAL APORTES'!B29 -> Gastos Operacionales | C19: 0 | D19: 0 | E19: =SUM(C19:D19) -> 0
B20: =+'3 .TOTAL APORTES'!B30 -> Gastos de Pasajes y Estadía | C20: 0 | D20: 0 | E20: =SUM(C20:D20) -> 0
B21: Equipamiento | C21: ='3.11. Equipamiento INSTITUC'!L20 -> 0 | D21: ='3.11. Equipamiento INSTITUC'!M20 -> 0 | E21: =SUM(C21:D21) -> 0
B22: Total M$ | C22: =+C10+C18+C21 -> 0 | D22: =+D10+D18+D21 -> 0 | E22: =+E10+E18+E21 -> 0
B24: % Aporte pecuniario Inst.Asociadas solicitado a ANID (Min. 1% del Total Recursos solicitados a ANID) | C24: =+IF(C22>0,C22/'2. PPTO ANID'!C33,0) -> 0
B27: NOTA:
B28: Llenar todas las celdas, salvo los totales de cada ítem y las celdas en gris.

Sheet 3.6. PPTO INST ASOC 5
B1: 3.6. PRESUPUESTO COMPROMETIDO POR LA(S) INSTITUCIÓN(ES) ASOCIADA(S)
B3: Nº PROYECTO | C3: =VLOOKUP($B3,'1. PPTO TOTAL CENTRO'!$B$5:$E$18,2,0) -> 0
B4: NOMBRE CENTRO | C4: =VLOOKUP($B4,'1. PPTO TOTAL CENTRO'!$B$5:$E$18,2,0) -> 0
B5: INSTITUCION ASOCIADA 5 | C5: =VLOOKUP($B5,'1. PPTO TOTAL CENTRO'!$B$5:$E$18,2,0) -> 0
B7: Montos en Miles de $
B8: ITEM PRESUPUESTARIO | C8: APORTES COMPROMETIDOS
C9: PECUNIARIOS | D9: NO PECUNIARIOS | E9: Total
B10: Personal | C10: =SUM(C11:C17) -> 0 | D10: =SUM(D11:D17) -> 0 | E10: =SUM(E11:E17) -> 0
B11: =+'3 .TOTAL APORTES'!B21 -> Investigadores | C11: 0 | D11: 0 | E11: =SUM(C11:D11) -> 0
B12: =+'3 .TOTAL APORTES'!B22 -> Investigadores Postdoctorales | C12: 0 | D12: 0 | E12: =SUM(C12:D12) -> 0
B13: =+'3 .TOTAL APORTES'!B23 -> Estudiantes de Doctorado | C13: 0 | D13: 0 | E13: =SUM(C13:D13) -> 0
B14: =+'3 .TOTAL APORTES'!B24 -> Estudiantes de Magister | C14: 0 | D14: 0 | E14: =SUM(C14:D14) -> 0
B15: =+'3 .TOTAL APORTES'!B25 -> Tesistas de Pregrado | C15: 0 | D15: 0 | E15: =SUM(C15:D15) -> 0
B16: =+'3 .TOTAL APORTES'!B26 -> Personal de Apoyo | C16: 0 | D16: 0 | E16: =SUM(C16:D16) -> 0
B17: =+'3 .TOTAL APORTES'!B27 -> Personal Administrativo | C17: 0 | D17: 0 | E17: =SUM(C17:D17) -> 0
B18: =+'3 .TOTAL APORTES'!B28 -> Gastos de Operación | C18: =SUM(C19:C20) -> 0 | D18: =SUM(D19:D20) -> 0 | E18: =SUM(E19:E20) -> 0
B19: =+'3 .TOTAL APORTES'!B29 -> Gastos Operacionales | C19: 0 | D19: 0 | E19: =SUM(C19:D19) -> 0
B20: =+'3 .TOTAL APORTES'!B30 -> Gastos de Pasajes y Estadía | C20: 0 | D20: 0 | E20: =SUM(C20:D20) -> 0
B21: Equipamiento | C21: ='3.11. Equipamiento INSTITUC'!N20 -> 0 | D21: ='3.11. Equipamiento INSTITUC'!O20 -> 0 | E21: =SUM(C21:D21) -> 0
B22: Total M$ | C22: =+C10+C18+C21 -> 0 | D22: =+D10+D18+D21 -> 0 | E22: =+E10+E18+E21 -> 0
B24: % Aporte pecuniario Inst.Asociadas solicitado a ANID (Min. 1% del Total Recursos solicitados a ANID) | C24: =+IF(C22>0,C22/'2. PPTO ANID'!C33,0) -> 0
B27: NOTA:
B28: Llenar todas las celdas, salvo los totales de cada ítem y las celdas en gris.

Sheet 3.7. PPTO INST ASOC 6
B1: 3.7. PRESUPUESTO COMPROMETIDO POR LA(S) INSTITUCIÓN(ES) ASOCIADA(S)
B3: Nº PROYECTO | C3: =VLOOKUP($B3,'1. PPTO TOTAL CENTRO'!$B$5:$E$18,2,0) -> 0
B4: NOMBRE CENTRO | C4: =VLOOKUP($B4,'1. PPTO TOTAL CENTRO'!$B$5:$E$18,2,0) -> 0
B5: INSTITUCION ASOCIADA 6 | C5: =VLOOKUP($B5,'1. PPTO TOTAL CENTRO'!$B$5:$E$18,2,0) -> 0
B7: Montos en Miles de $
B8: ITEM PRESUPUESTARIO | C8: APORTES COMPROMETIDOS
C9: PECUNIARIOS | D9: NO PECUNIARIOS | E9: Total
B10: Personal | C10: =SUM(C11:C17) -> 0 | D10: =SUM(D11:D17) -> 0 | E10: =SUM(E11:E17) -> 0
B11: =+'3 .TOTAL APORTES'!B21 -> Investigadores | C11: 0 | D11: 0 | E11: =SUM(C11:D11) -> 0
B12: =+'3 .TOTAL APORTES'!B22 -> Investigadores Postdoctorales | C12: 0 | D12: 0 | E12: =SUM(C12:D12) -> 0
B13: =+'3 .TOTAL APORTES'!B23 -> Estudiantes de Doctorado | C13: 0 | D13: 0 | E13: =SUM(C13:D13) -> 0
B14: =+'3 .TOTAL APORTES'!B24 -> Estudiantes de Magister | C14: 0 | D14: 0 | E14: =SUM(C14:D14) -> 0
B15: =+'3 .TOTAL APORTES'!B25 -> Tesistas de Pregrado | C15: 0 | D15: 0 | E15: =SUM(C15:D15) -> 0
B16: =+'3 .TOTAL APORTES'!B26 -> Personal de Apoyo | C16: 0 | D16: 0 | E16: =SUM(C16:D16) -> 0
B17: =+'3 .TOTAL APORTES'!B27 -> Personal Administrativo | C17: 0 | D17: 0 | E17: =SUM(C17:D17) -> 0
B18: =+'3 .TOTAL APORTES'!B28 -> Gastos de Operación | C18: =SUM(C19:C20) -> 0 | D18: =SUM(D19:D20) -> 0 | E18: =SUM(E19:E20) -> 0
B19: =+'3 .TOTAL APORTES'!B29 -> Gastos Operacionales | C19: 0 | D19: 0 | E19: =SUM(C19:D19) -> 0
B20: =+'3 .TOTAL APORTES'!B30 -> Gastos de Pasajes y Estadía | C20: 0 | D20: 0 | E20: =SUM(C20:D20) -> 0
B21: Equipamiento | C21: ='3.11. Equipamiento INSTITUC'!P20 -> 0 | D21: ='3.11. Equipamiento INSTITUC'!Q20 -> 0 | E21: =SUM(C21:D21) -> 0
B22: Total M$ | C22: =+C10+C18+C21 -> 0 | D22: =+D10+D18+D21 -> 0 | E22: =+E10+E18+E21 -> 0
B24: % Aporte pecuniario Inst.Asociadas solicitado a ANID (Min. 1% del Total Recursos solicitados a ANID) | C24: =+IF(C22>0,C22/'2. PPTO ANID'!C33,0) -> 0
B27: NOTA:
B28: Llenar todas las celdas, salvo los totales de cada ítem y las celdas en gris.

Sheet 3.8. PPTO INST ASOC 7
B1: 3.8. PRESUPUESTO COMPROMETIDO POR LA(S) INSTITUCIÓN(ES) ASOCIADA(S)
B3: Nº PROYECTO | C3: =VLOOKUP($B3,'1. PPTO TOTAL CENTRO'!$B$5:$E$18,2,0) -> 0
B4: NOMBRE CENTRO | C4: =VLOOKUP($B4,'1. PPTO TOTAL CENTRO'!$B$5:$E$18,2,0) -> 0
B5: INSTITUCION ASOCIADA 7 | C5: =VLOOKUP($B5,'1. PPTO TOTAL CENTRO'!$B$5:$E$18,2,0) -> 0
B7: Montos en Miles de $
B8: ITEM PRESUPUESTARIO | C8: APORTES COMPROMETIDOS
C9: PECUNIARIOS | D9: NO PECUNIARIOS | E9: Total
B10: Personal | C10: =SUM(C11:C17) -> 0 | D10: =SUM(D11:D17) -> 0 | E10: =SUM(E11:E17) -> 0
B11: =+'3 .TOTAL APORTES'!B21 -> Investigadores | C11: 0 | D11: 0 | E11: =SUM(C11:D11) -> 0
B12: =+'3 .TOTAL APORTES'!B22 -> Investigadores Postdoctorales | C12: 0 | D12: 0 | E12: =SUM(C12:D12) -> 0
B13: =+'3 .TOTAL APORTES'!B23 -> Estudiantes de Doctorado | C13: 0 | D13: 0 | E13: =SUM(C13:D13) -> 0
B14: =+'3 .TOTAL APORTES'!B24 -> Estudiantes de Magister | C14: 0 | D14: 0 | E14: =SUM(C14:D14) -> 0
B15: =+'3 .TOTAL APORTES'!B25 -> Tesistas de Pregrado | C15: 0 | D15: 0 | E15: =SUM(C15:D15) -> 0
B16: =+'3 .TOTAL APORTES'!B26 -> Personal de Apoyo | C16: 0 | D16: 0 | E16: =SUM(C16:D16) -> 0
B17: =+'3 .TOTAL APORTES'!B27 -> Personal Administrativo | C17: 0 | D17: 0 | E17: =SUM(C17:D17) -> 0
B18: =+'3 .TOTAL APORTES'!B28 -> Gastos de Operación | C18: =SUM(C19:C20) -> 0 | D18: =SUM(D19:D20) -> 0 | E18: =SUM(E19:E20) -> 0
B19: =+'3 .TOTAL APORTES'!B29 -> Gastos Operacionales | C19: 0 | D19: 0 | E19: =SUM(C19:D19) -> 0
B20: =+'3 .TOTAL APORTES'!B30 -> Gastos de Pasajes y Estadía | C20: 0 | D20: 0 | E20: =SUM(C20:D20) -> 0
B21: Equipamiento | C21: ='3.11. Equipamiento INSTITUC'!R20 -> 0 | D21: ='3.11. Equipamiento INSTITUC'!S20 -> 0 | E21: =SUM(C21:D21) -> 0
B22: Total M$ | C22: =+C10+C18+C21 -> 0 | D22: =+D10+D18+D21 -> 0 | E22: =+E10+E18+E21 -> 0
B24: % Aporte pecuniario Inst.Asociadas solicitado a ANID (Min. 1% del Total Recursos solicitados a ANID) | C24: =+IF(C22>0,C22/'2. PPTO ANID'!C33,0) -> 0
B27: NOTA:
B28: Llenar todas las celdas, salvo los totales de cada ítem y las celdas en gris.

Sheet 3.9. PPTO INST ASOC 8
B1: 3.9. PRESUPUESTO COMPROMETIDO POR LA(S) INSTITUCIÓN(ES) ASOCIADA(S)
B3: Nº PROYECTO | C3: =VLOOKUP($B3,'1. PPTO TOTAL CENTRO'!$B$5:$E$18,2,0) -> 0
B4: NOMBRE CENTRO | C4: =VLOOKUP($B4,'1. PPTO TOTAL CENTRO'!$B$5:$E$18,2,0) -> 0
B5: INSTITUCION ASOCIADA 8 | C5: =VLOOKUP($B5,'1. PPTO TOTAL CENTRO'!$B$5:$E$18,2,0) -> 0
B7: Montos en Miles de $
B8: ITEM PRESUPUESTARIO | C8: APORTES COMPROMETIDOS
C9: PECUNIARIOS | D9: NO PECUNIARIOS | E9: Total
B10: Personal | C10: =SUM(C11:C17) -> 0 | D10: =SUM(D11:D17) -> 0 | E10: =SUM(E11:E17) -> 0
B11: =+'3 .TOTAL APORTES'!B21 -> Investigadores | C11: 0 | D11: 0 | E11: =SUM(C11:D11) -> 0
B12: =+'3 .TOTAL APORTES'!B22 -> Investigadores Postdoctorales | C12: 0 | D12: 0 | E12: =SUM(C12:D12) -> 0
B13: =+'3 .TOTAL APORTES'!B23 -> Estudiantes de Doctorado | C13: 0 | D13: 0 | E13: =SUM(C13:D13) -> 0
B14: =+'3 .TOTAL APORTES'!B24 -> Estudiantes de Magister | C14: 0 | D14: 0 | E14: =SUM(C14:D14) -> 0
B15: =+'3 .TOTAL APORTES'!B25 -> Tesistas de Pregrado | C15: 0 | D15: 0 | E15: =SUM(C15:D15) -> 0
B16: =+'3 .TOTAL APORTES'!B26 -> Personal de Apoyo | C16: 0 | D16: 0 | E16: =SUM(C16:D16) -> 0
B17: =+'3 .TOTAL APORTES'!B27 -> Personal Administrativo | C17: 0 | D17: 0 | E17: =SUM(C17:D17) -> 0
B18: =+'3 .TOTAL APORTES'!B28 -> Gastos de Operación | C18: =SUM(C19:C20) -> 0 | D18: =SUM(D19:D20) -> 0 | E18: =SUM(E19:E20) -> 0
B19: =+'3 .TOTAL APORTES'!B29 -> Gastos Operacionales | C19: 0 | D19: 0 | E19: =SUM(C19:D19) -> 0
B20: =+'3 .TOTAL APORTES'!B30 -> Gastos de Pasajes y Estadía | C20: 0 | D20: 0 | E20: =SUM(C20:D20) -> 0
B21: Equipamiento | C21: ='3.11. Equipamiento INSTITUC'!T20 -> 0 | D21: ='3.11. Equipamiento INSTITUC'!U20 -> 0 | E21: =SUM(C21:D21) -> 0
B22: Total M$ | C22: =+C10+C18+C21 -> 0 | D22: =+D10+D18+D21 -> 0 | E22: =+E10+E18+E21 -> 0
B24: % Aporte pecuniario Inst.Asociadas solicitado a ANID (Min. 1% del Total Recursos solicitados a ANID) | C24: =+IF(C22>0,C22/'2. PPTO ANID'!C33,0) -> 0
B27: NOTA:
B28: Llenar todas las celdas, salvo los totales de cada ítem y las celdas en gris.
